BEGIN:VCALENDAR
VERSION:2.0
PRODID:-//Downtown Manhattan Inc. - ECPv6.15.20//NONSGML v1.0//EN
CALSCALE:GREGORIAN
METHOD:PUBLISH
X-ORIGINAL-URL:https://downtownmhk.com
X-WR-CALDESC:Events for Downtown Manhattan Inc.
REFRESH-INTERVAL;VALUE=DURATION:PT1H
X-Robots-Tag:noindex
X-PUBLISHED-TTL:PT1H
BEGIN:VTIMEZONE
TZID:America/Chicago
BEGIN:DAYLIGHT
TZOFFSETFROM:-0600
TZOFFSETTO:-0500
TZNAME:CDT
DTSTART:20230312T080000
END:DAYLIGHT
BEGIN:STANDARD
TZOFFSETFROM:-0500
TZOFFSETTO:-0600
TZNAME:CST
DTSTART:20231105T070000
END:STANDARD
BEGIN:DAYLIGHT
TZOFFSETFROM:-0600
TZOFFSETTO:-0500
TZNAME:CDT
DTSTART:20240310T080000
END:DAYLIGHT
BEGIN:STANDARD
TZOFFSETFROM:-0500
TZOFFSETTO:-0600
TZNAME:CST
DTSTART:20241103T070000
END:STANDARD
BEGIN:DAYLIGHT
TZOFFSETFROM:-0600
TZOFFSETTO:-0500
TZNAME:CDT
DTSTART:20250309T080000
END:DAYLIGHT
BEGIN:STANDARD
TZOFFSETFROM:-0500
TZOFFSETTO:-0600
TZNAME:CST
DTSTART:20251102T070000
END:STANDARD
END:VTIMEZONE
BEGIN:VEVENT
DTSTART;TZID=America/Chicago:20240510T190000
DTEND;TZID=America/Chicago:20240510T210000
DTSTAMP:20260420T135517
CREATED:20240123T210414Z
LAST-MODIFIED:20240502T181639Z
UID:7896-1715367600-1715374800@downtownmhk.com
SUMMARY:Ferris Bueller's Day Off: Fan Fave Fridays @ Wareham Hall
DESCRIPTION:Doors open at 6:15 PM and movie begins at 7:00 PM \nDitch the pencils and books\, because we’re taking a day off\, Ferris Bueller style! We’re cruising through Chicago\, singing in parades and outsmarting the dean\, all without leaving Wareham Hall. \nExpect an evening filled with laughs\, memorable quotes and lessons in the fine art of playing hooky. Grab your ticket and come ready to experience the joyride that taught us the importance of a day off.
URL:https://downtownmhk.com/event/groundhog-day-fan-fave-fridays-wareham-hall/
LOCATION:The Wareham Opera House\, 410 Poyntz Avenue\, Manhattan\, KS\, 66502\, United States
CATEGORIES:Movie
ATTACH;FMTTYPE=image/jpeg:https://downtownmhk.com/wp-content/uploads/2024/01/facebook_1714661207473_7191810361152050871.jpg
END:VEVENT
END:VCALENDAR